BEGIN:VCALENDAR
VERSION:2.0
PRODID:-//https://www.clubedospauzudos.com.br///NONSGML kigkonsult.se iCalcreator 2.10.15//
METHOD:PUBLISH
BEGIN:VEVENT
UID:20260422T162329UTC-6356js3ic6@https://www.clubedospauzudos.com.br/
DTSTAMP:20260422T162329Z
DESCRIPTION: https://www.clubedospauzudos.com.br/en/events/event/2905-pegad
 a-de-urso-sabados
DTSTART:20240413T170000Z
DTEND:20240414T020000Z
LOCATION:Rua Dr Veiga Filho 802 Higienópolis São Paulo (Rua Dr Veiga Filho 
 802 Higienópolis São Paulo)
SUMMARY:PEGADA DE URSO -  sábados
URL:https://www.clubedospauzudos.com.br/en/events/event/2905-pegada-de-urso
 -sabados
END:VEVENT
END:VCALENDAR
