BEGIN:VCALENDAR
VERSION:2.0
PRODID:-//https://www.clubedospauzudos.com.br///NONSGML kigkonsult.se iCalcreator 2.10.15//
METHOD:PUBLISH
BEGIN:VEVENT
UID:20260420T043857UTC-0589Zrpzhi@https://www.clubedospauzudos.com.br/
DTSTAMP:20260420T043857Z
DESCRIPTION: https://www.clubedospauzudos.com.br/en/events/event/3246-barma
 n-interativo-as-quintas
DTSTART:20241205T170000Z
DTEND:20241206T020000Z
LOCATION:Rua Dr Veiga Filho 802 Higienópolis São Paulo (Rua Dr Veiga Filho 
 802 Higienópolis São Paulo)
SUMMARY: Barman Interativo às Quintas
URL:https://www.clubedospauzudos.com.br/en/events/event/3246-barman-interat
 ivo-as-quintas
END:VEVENT
END:VCALENDAR
