BEGIN:VCALENDAR
VERSION:2.0
PRODID:-//https://www.clubedospauzudos.com.br///NONSGML kigkonsult.se iCalcreator 2.10.15//
METHOD:PUBLISH
BEGIN:VEVENT
UID:20260419T214711UTC-3475DuIuak@https://www.clubedospauzudos.com.br/
DTSTAMP:20260419T214711Z
DESCRIPTION: https://www.clubedospauzudos.com.br/en/events/event/3367-mr-ba
 rbudo-barbudos-sao-especiais-nesse-dia
DTSTART:20250426T020000Z
DTEND:20250426T080000Z
LOCATION:Rua Dr Veiga Filho 802 Higienópolis São Paulo (Rua Dr Veiga Filho 
 802 Higienópolis São Paulo)
SUMMARY:Mr Barbudo - barbudos são especiais nesse dia
URL:https://www.clubedospauzudos.com.br/en/events/event/3367-mr-barbudo-bar
 budos-sao-especiais-nesse-dia
END:VEVENT
END:VCALENDAR
