BEGIN:VCALENDAR
VERSION:2.0
PRODID:-//https://www.clubedospauzudos.com.br///NONSGML kigkonsult.se iCalcreator 2.10.15//
METHOD:PUBLISH
BEGIN:VEVENT
UID:20260420T130047UTC-3653hl9FV4@https://www.clubedospauzudos.com.br/
DTSTAMP:20260420T130047Z
DESCRIPTION: https://www.clubedospauzudos.com.br/pt-br/programacao/event/16
 25-domingo-tem-festa-grupal-no-clube
DTSTART:20200105T160000Z
DTEND:20200106T010000Z
LOCATION:Rua Dr Veiga Filho 802 Higienópolis São Paulo (Rua Dr Veiga Filho 
 802 Higienópolis São Paulo)
SUMMARY:Domingo tem festa grupal no Clube
URL:https://www.clubedospauzudos.com.br/pt-br/programacao/event/1625-doming
 o-tem-festa-grupal-no-clube
END:VEVENT
END:VCALENDAR
