BEGIN:VCALENDAR
VERSION:2.0
PRODID:-//https://www.clubedospauzudos.com.br///NONSGML kigkonsult.se iCalcreator 2.10.15//
METHOD:PUBLISH
BEGIN:VEVENT
UID:20260420T130147UTC-8056M6xLtD@https://www.clubedospauzudos.com.br/
DTSTAMP:20260420T130147Z
DESCRIPTION: https://www.clubedospauzudos.com.br/pt-br/programacao/event/17
 29-massagens-depilacao-masc-diversao
DTSTART:20200914T170000Z
DTEND:20200915T010000Z
LOCATION:Rua Dr Veiga Filho 802 Higienópolis São Paulo (Rua Dr Veiga Filho 
 802 Higienópolis São Paulo)
SUMMARY:Massagens / Depilação Masc / Diversão
URL:https://www.clubedospauzudos.com.br/pt-br/programacao/event/1729-massag
 ens-depilacao-masc-diversao
END:VEVENT
END:VCALENDAR
