BEGIN:VCALENDAR
VERSION:2.0
PRODID:-//https://www.clubedospauzudos.com.br///NONSGML kigkonsult.se iCalcreator 2.10.15//
METHOD:PUBLISH
BEGIN:VEVENT
UID:20260420T130215UTC-9619bXEo6t@https://www.clubedospauzudos.com.br/
DTSTAMP:20260420T130215Z
DESCRIPTION: https://www.clubedospauzudos.com.br/pt-br/programacao/event/18
 60-saunas-massagens-na-wild-thermas
DTSTART:20210201T170000Z
DTEND:20210202T010000Z
LOCATION:Rua Dr Veiga Filho 802 Higienópolis São Paulo (Rua Dr Veiga Filho 
 802 Higienópolis São Paulo)
SUMMARY:Saunas\, Massagens na Wild Thermas
URL:https://www.clubedospauzudos.com.br/pt-br/programacao/event/1860-saunas
 -massagens-na-wild-thermas
END:VEVENT
END:VCALENDAR
