BEGIN:VCALENDAR
VERSION:2.0
PRODID:-//https://www.clubedospauzudos.com.br///NONSGML kigkonsult.se iCalcreator 2.10.15//
METHOD:PUBLISH
BEGIN:VEVENT
UID:20260420T125700UTC-7761J7UkxU@https://www.clubedospauzudos.com.br/
DTSTAMP:20260420T125700Z
DESCRIPTION: https://www.clubedospauzudos.com.br/pt-br/programacao/event/18
 88-fechados-ate-20-marco
DTSTART:20210308T170000Z
DTEND:20210309T010000Z
LOCATION:Rua Dr Veiga Filho 802 Higienópolis São Paulo (Rua Dr Veiga Filho 
 802 Higienópolis São Paulo)
SUMMARY:FECHADOS  até 20 março
URL:https://www.clubedospauzudos.com.br/pt-br/programacao/event/1888-fechad
 os-ate-20-marco
END:VEVENT
END:VCALENDAR
