BEGIN:VCALENDAR
VERSION:2.0
PRODID:-//https://www.clubedospauzudos.com.br///NONSGML kigkonsult.se iCalcreator 2.10.15//
METHOD:PUBLISH
BEGIN:VEVENT
UID:20260420T130346UTC-3763pudM4t@https://www.clubedospauzudos.com.br/
DTSTAMP:20260420T130346Z
DESCRIPTION: https://www.clubedospauzudos.com.br/pt-br/programacao/event/19
 01-encontro-de-machos-no-clube-dos-pauz
DTSTART:20210321T170000Z
DTEND:20210322T010000Z
LOCATION:Rua Dr Veiga Filho 802 Higienópolis São Paulo (Rua Dr Veiga Filho 
 802 Higienópolis São Paulo)
SUMMARY:Encontro de Machos no Clube dos Pauz
URL:https://www.clubedospauzudos.com.br/pt-br/programacao/event/1901-encont
 ro-de-machos-no-clube-dos-pauz
END:VEVENT
END:VCALENDAR
