BEGIN:VCALENDAR
VERSION:2.0
PRODID:-//https://www.clubedospauzudos.com.br///NONSGML kigkonsult.se iCalcreator 2.10.15//
METHOD:PUBLISH
BEGIN:VEVENT
UID:20260420T125241UTC-9088iuRzwu@https://www.clubedospauzudos.com.br/
DTSTAMP:20260420T125241Z
DESCRIPTION: https://www.clubedospauzudos.com.br/pt-br/programacao/event/20
 59-fallen-angels-2nd-edition
DTSTART:20211030T020000Z
DTEND:20211030T080000Z
LOCATION:Rua Dr Veiga Filho 802 Higienópolis São Paulo (Rua Dr Veiga Filho 
 802 Higienópolis São Paulo)
SUMMARY:FALLEN ANGELS - 2ND EDITION
URL:https://www.clubedospauzudos.com.br/pt-br/programacao/event/2059-fallen
 -angels-2nd-edition
END:VEVENT
END:VCALENDAR
