BEGIN:VCALENDAR
VERSION:2.0
PRODID:-//https://www.clubedospauzudos.com.br///NONSGML kigkonsult.se iCalcreator 2.10.15//
METHOD:PUBLISH
BEGIN:VEVENT
UID:20260420T130008UTC-3395V8RTDe@https://www.clubedospauzudos.com.br/
DTSTAMP:20260420T130008Z
DESCRIPTION: https://www.clubedospauzudos.com.br/pt-br/programacao/event/23
 97-estudantina-toda-segunda
DTSTART:20220905T170000Z
DTEND:20220906T020000Z
LOCATION:Rua Dr Veiga Filho 802 Higienópolis São Paulo (Rua Dr Veiga Filho 
 802 Higienópolis São Paulo)
SUMMARY:ESTUDANTINA - toda segunda
URL:https://www.clubedospauzudos.com.br/pt-br/programacao/event/2397-estuda
 ntina-toda-segunda
END:VEVENT
END:VCALENDAR
