BEGIN:VCALENDAR
VERSION:2.0
PRODID:-//https://www.clubedospauzudos.com.br///NONSGML kigkonsult.se iCalcreator 2.10.15//
METHOD:PUBLISH
BEGIN:VEVENT
UID:20260420T125414UTC-3973vukOlT@https://www.clubedospauzudos.com.br/
DTSTAMP:20260420T125414Z
DESCRIPTION: https://www.clubedospauzudos.com.br/pt-br/programacao/event/29
 57-clube-dos-pauzudos
DTSTART:20240316T020000Z
DTEND:20240316T080000Z
LOCATION:Rua Dr Veiga Filho 802 Higienópolis São Paulo (Rua Dr Veiga Filho 
 802 Higienópolis São Paulo)
SUMMARY: Clube dos Pauzudos
URL:https://www.clubedospauzudos.com.br/pt-br/programacao/event/2957-clube-
 dos-pauzudos
END:VEVENT
END:VCALENDAR
